BEGIN:VCALENDAR
VERSION:2.0
PRODID:http://opencms1.bistum-aachen.de
BEGIN:VEVENT
UID:0def72bc-3ca6-11f1-b997-0242ac11002b-1776949200000-de
DTSTAMP:20260420T104532Z
DTSTART:20260423T130000Z
DTEND:20260423T150000Z
SUMMARY;LANGUAGE=de:Wohnberatung - Leben in den eigenen vier Wänden
DESCRIPTION;LANGUAGE=de:Im Alter\, bei Krankheit oder Behinderung kann eine Umgestaltung der Wohnung oder des Hauses sinnvoll sein. Die Wohnberatungsstelle informiert über das kostenfreie und neutrale Beratungsangebot für alle Bürgerinnen und Bürger.
LOCATION;LANGUAGE=de:Kreisverwaltung Düren\, Raum C56\, Bismarckstraße 16\,
IMAGE;VALUE=URI;DISPLAY=BADGE;FMTTYPE=image/jpeg:http://opencms1.bistum-aachen.de/export/sites/Bistum-Aachen/portal-bistum-aachen/region-dueren-eifel/.galleries/images/Wohnberatung-April-2026.png
END:VEVENT
END:VCALENDAR
