BEGIN:VCALENDAR
VERSION:2.0
PRODID:http://opencms1.bistum-aachen.de
BEGIN:VEVENT
UID:282ef77b-3c9b-11f1-b997-0242ac11002b-1780005600000-de
DTSTAMP:20260420T092731Z
DTSTART:20260528T220000Z
DTEND:20260531T220000Z
SUMMARY;LANGUAGE=de:Frauenwochenende: „Welche Farben hat mein Leben?“
DESCRIPTION;LANGUAGE=de:„Welche Farben hat mein Leben?“ Mit Farben können wir unser Lebensgefühl ausdrücken. Ich lade ein zum Wochenende für Frauen\, die jünger sind als 65 Jahre. Frauen\, die sich einlassen auf eine Zeit mit unterschiedlichen Angeboten. Die Zeiten beinhalten Bibelarbeit\, ein kreatives Angebot\, Gespräche in der Gruppe\, auch Einzelarbeit ist möglich. Sie genießen das Wochenende im miteinander und für sich. Die Stille und die gute Atmosphäre des Exerzitienhauses in der Eifel tragen zum Wohlbefinden und neuem Energieschub bei.
LOCATION;LANGUAGE=de:Exerzitienhaus des Bistums Trier in St. Thomas\,
IMAGE;VALUE=URI;DISPLAY=BADGE;FMTTYPE=image/jpeg:http://opencms1.bistum-aachen.de/export/sites/Bistum-Aachen/portal-bistum-aachen/frauenseelsorge/frauenseelsorge-dueren/.galleries/images/St.-Thomas_Luftaufnahme.png_1653625340.png
END:VEVENT
END:VCALENDAR
