BEGIN:VCALENDAR
VERSION:2.0
PRODID:http://opencms1.bistum-aachen.de
BEGIN:VEVENT
UID:814dfe08-3c9d-11f1-b997-0242ac11002b-1795629600000-de
DTSTAMP:20260420T094420Z
DTSTART:20261125T180000Z
DTEND:20261125T200000Z
SUMMARY;LANGUAGE=de:Gemeinsames, kreatives Herstellen eines Türkranzes oder eines Adventskranzes
DESCRIPTION;LANGUAGE=de:Kreatives Angebot zum Adventsbeginn mit Nina Gille. Tannengrün ist vorhanden\, Deko für den Kranz bitte mitbringen. Weitere Infos folgen im Herbst.
LOCATION;LANGUAGE=de:Langerwehe\,
IMAGE;VALUE=URI;DISPLAY=BADGE;FMTTYPE=image/jpeg:http://opencms1.bistum-aachen.de/export/sites/Bistum-Aachen/portal-bistum-aachen/frauenseelsorge/frauenseelsorge-dueren/.galleries/images/img_0894_0_by_Sylvio_Krueger_pfarrbriefservice.jpg
END:VEVENT
END:VCALENDAR
