BEGIN:VCALENDAR
VERSION:2.0
PRODID:http://opencms1.bistum-aachen.de
BEGIN:VEVENT
UID:b5bab140-3c99-11f1-b997-0242ac11002b-1777104000000-de
DTSTAMP:20260420T091710Z
DTSTART:20260425T080000Z
DTEND:20260425T140000Z
SUMMARY;LANGUAGE=de:„Schenke mir den Blick ins Helle“
DESCRIPTION;LANGUAGE=de:Auszeit für Frauen mit bibl. Impulsen\, Meditationen\, Austausch und kreativem Tun – auf der Suche nach unserer Lichtquelle für den Alltag.
LOCATION;LANGUAGE=de:Johannessaal Nideggen\, Kirchgasse 6\, 52385 Nideggen
IMAGE;VALUE=URI;DISPLAY=BADGE;FMTTYPE=image/jpeg:http://opencms1.bistum-aachen.de/export/sites/Bistum-Aachen/portal-bistum-aachen/frauenseelsorge/frauenseelsorge-dueren/.galleries/images/20211222_084903_by_Barbara_Schartz_pfarrbriefservice.jpg
END:VEVENT
END:VCALENDAR
