BEGIN:VCALENDAR
VERSION:2.0
PRODID:http://opencms1.bistum-aachen.de
BEGIN:VEVENT
UID:c5dd715c-3c9a-11f1-b997-0242ac11002b-1783011600000-de
DTSTAMP:20260420T092446Z
DTSTART:20260702T170000Z
DTEND:20260702T190000Z
SUMMARY;LANGUAGE=de:„Sommerabend im Garten“
DESCRIPTION;LANGUAGE=de:mit Impulsen zum Gespräch bei Getränk und Häppchen für‘s Gemüt und einem kleinen kreativen Teil.
LOCATION;LANGUAGE=de:im Garten\, Langerwehe\, Hauptstraße 256\, 52379 Langerwehe
IMAGE;VALUE=URI;DISPLAY=BADGE;FMTTYPE=image/jpeg:http://opencms1.bistum-aachen.de/export/sites/Bistum-Aachen/portal-bistum-aachen/frauenseelsorge/frauenseelsorge-dueren/.galleries/images/Mohn-c-MH.jpg
END:VEVENT
END:VCALENDAR
